BEGIN:VCALENDAR
VERSION:2.0
PRODID:-//CirculNews//Valli di Lanzo//IT
CALSCALE:GREGORIAN
METHOD:PUBLISH
BEGIN:VEVENT
UID:event-40@news.lcircul.it
DTSTAMP:20260424T151750Z
DTSTART;VALUE=DATE:20260426
DTEND;VALUE=DATE:20260427
SUMMARY:Hope Color – Camminata Clown a Ciriè
DESCRIPTION:Camminata non competitiva di 5 km tra musica\, nasi rossi e solidarietà. — https://news.lcircul.it/eventi/40/hope-color-camminata-clown
LOCATION:Ciriè
URL:https://news.lcircul.it/eventi/40/hope-color-camminata-clown
END:VEVENT
END:VCALENDAR