BEGIN:VCALENDAR
VERSION:2.0
PRODID:-//CirculNews//Valli di Lanzo//IT
CALSCALE:GREGORIAN
METHOD:PUBLISH
BEGIN:VEVENT
UID:event-41@news.lcircul.it
DTSTAMP:20260424T151722Z
DTSTART;VALUE=DATE:20260524
DTEND;VALUE=DATE:20260525
SUMMARY:SCAMBIO VERDE EDIZIONE 2026 a Lanzo Torinese
DESCRIPTION:Manifestazione di libero scambio e donazione di semi\, piante e talee radicate. — https://news.lcircul.it/eventi/41/scambio-verde-edizione-2026
LOCATION:ALA MERCATALE DI PIAZZA ALLISIO\, Lanzo Torinese
URL:https://news.lcircul.it/eventi/41/scambio-verde-edizione-2026
END:VEVENT
END:VCALENDAR