BEGIN:VCALENDAR
VERSION:2.0
PRODID:-//CirculNews//Valli di Lanzo//IT
CALSCALE:GREGORIAN
METHOD:PUBLISH
BEGIN:VEVENT
UID:event-42@news.lcircul.it
DTSTAMP:20260424T151750Z
DTSTART:20260425T094500
DTEND:20260425T114500
SUMMARY:Celebrazioni Festa della Liberazione a Lemie
DESCRIPTION:Celebrazione della ricorrenza. — https://news.lcircul.it/eventi/42/celebrazioni-festa-della-liberazione
LOCATION:Piazza Don Girardi\, Lemie
URL:https://news.lcircul.it/eventi/42/celebrazioni-festa-della-liberazione
END:VEVENT
END:VCALENDAR