BEGIN:VCALENDAR
VERSION:2.0
PRODID:-//CirculNews//Valli di Lanzo//IT
CALSCALE:GREGORIAN
METHOD:PUBLISH
BEGIN:VEVENT
UID:event-43@news.lcircul.it
DTSTAMP:20260424T151751Z
DTSTART;VALUE=DATE:20260430
DTEND;VALUE=DATE:20260504
SUMMARY:Le Valli in Vetrina a Ceres
DESCRIPTION:Manifestazione dedicata al turismo con sapori\, tradizioni ed eventi. — https://news.lcircul.it/eventi/43/le-valli-in-vetrina
LOCATION:Ceres
URL:https://news.lcircul.it/eventi/43/le-valli-in-vetrina
END:VEVENT
END:VCALENDAR