BEGIN:VCALENDAR
VERSION:2.0
PRODID:-//CirculNews//Valli di Lanzo//IT
CALSCALE:GREGORIAN
METHOD:PUBLISH
BEGIN:VEVENT
UID:event-46@news.lcircul.it
DTSTAMP:20260424T151750Z
DTSTART;VALUE=DATE:20260425
DTEND;VALUE=DATE:20260426
SUMMARY:MERCATO HOBBISTI a Front
DESCRIPTION:Manifestazione di mercato hobbisti. — https://news.lcircul.it/eventi/46/mercato-hobbisti
LOCATION:Front
URL:https://news.lcircul.it/eventi/46/mercato-hobbisti
END:VEVENT
END:VCALENDAR