BEGIN:VCALENDAR
VERSION:2.0
PRODID:-//CirculNews//Valli di Lanzo//IT
CALSCALE:GREGORIAN
METHOD:PUBLISH
BEGIN:VEVENT
UID:event-49@news.lcircul.it
DTSTAMP:20260424T151723Z
DTSTART;VALUE=DATE:20260607
DTEND;VALUE=DATE:20260608
SUMMARY:Sagra dell'Öfela a Nole
DESCRIPTION:Manifestazione. — https://news.lcircul.it/eventi/49/sagra-dellofela
LOCATION:Nole
URL:https://news.lcircul.it/eventi/49/sagra-dellofela
END:VEVENT
END:VCALENDAR